BEGIN:VCALENDAR
PRODID:-//Veranstaltung//EN
VERSION:2.0
CALSCALE:GREGORIAN
BEGIN:VEVENT
DTSTART;VALUE=DATE-TIME:20251117T170000
DTEND;VALUE=DATE-TIME:20251117T183000
SUMMARY:Russlands Besatzungspolitik
LOCATION:
DESCRIPTION:Wie gestaltet sich die russische Herrschaft über die besetzten ukrainischen Gebiete – und mit welchen Mitteln wird sie gesichert? Welche Ziele verfolgt Moskau mit seiner Bevölkerungspolitik, und wie reagieren die Menschen vor Ort – zwischen Anpassung, Überleben, Kollaboration und Widerstand?
UID:
END:VEVENT
END:VCALENDAR