BEGIN:VCALENDAR
PRODID:-//Veranstaltung//EN
VERSION:2.0
CALSCALE:GREGORIAN
BEGIN:VEVENT
DTSTART;VALUE=DATE-TIME:20260223T000000
DTEND;VALUE=DATE-TIME:20260223T235959
SUMMARY:Cafe Kyiv 2026
LOCATION:Berlin
DESCRIPTION:Immer noch führt Russland seinen brutalen Angriffskrieg gegen die Ukraine und damit auch gegen die Demokratie. „Wir dürfen“, wie Berlins Regierender Bürgermeister Kai Wegner auf dem Cafe Kyiv 2024 betonte, „nicht sprachlos sein, wir dürfen nicht zuschauen“ – wir stehen an der Seite der Ukraine! Aus diesem Grund veranstaltet die Konrad-Adenauer-Stiftung mit zahlreichen Partnerorganisationen am Montag, den 23. Februar 2026 zum vierten Mal das Cafe Kyiv.
UID:
END:VEVENT
END:VCALENDAR