BEGIN:VCALENDAR
PRODID:-//Veranstaltung//EN
VERSION:2.0
CALSCALE:GREGORIAN
BEGIN:VEVENT
DTSTART;VALUE=DATE-TIME:20251105T190000
DTEND;VALUE=DATE-TIME:20251105T203000
SUMMARY:Sichtbar. Stark. Selbstbewusst
LOCATION:
DESCRIPTION:Ein inspirierender Abend mit Isabell Rathgeb über die Frage, wie wichtig es ist, dass Frauen sichtbar werden. Das Sie für sich selbst und ihre Themen einstehen und den Mut haben, ihre Stimme zu erheben – im Beruf, in der Politik, im Ehrenamt und im Alltag.
UID:
END:VEVENT
END:VCALENDAR