BEGIN:VCALENDAR
PRODID:-//Veranstaltung//EN
VERSION:2.0
CALSCALE:GREGORIAN
BEGIN:VEVENT
DTSTART;VALUE=DATE-TIME:20251126T190000
DTEND;VALUE=DATE-TIME:20251126T210000
SUMMARY:Wenn Expertise politisch wird: Verantwortung und Selbstbegrenzung wissenschaftlicher Beratung
LOCATION:Freiburg
DESCRIPTION:Ein anregender Vortragsabend mit Prof. Alexis Fritz, Lehrstuhl für Moraltheologie an der Uni Freiburg und Carola Basten, Beraterin bei donum vitae e.V., über ethische und praktische Aspekte der Beratungsarbeit.
UID:
END:VEVENT
END:VCALENDAR