BEGIN:VCALENDAR
PRODID:-//Veranstaltung//EN
VERSION:2.0
CALSCALE:GREGORIAN
BEGIN:VEVENT
DTSTART;VALUE=DATE-TIME:20251117T000000
DTEND;VALUE=DATE-TIME:20251118T235959
SUMMARY:Enhancing Knowledge and Experience on Politics and the Democratic Governance System
LOCATION:Bangkok
DESCRIPTION:
UID:
END:VEVENT
END:VCALENDAR