BEGIN:VCALENDAR
PRODID:-//Veranstaltung//EN
VERSION:2.0
CALSCALE:GREGORIAN
BEGIN:VEVENT
DTSTART;VALUE=DATE-TIME:20260528T000000
DTEND;VALUE=DATE-TIME:20260528T235959
SUMMARY:Бургаски форум за свързаност
LOCATION:
DESCRIPTION:Бургаският форум за свързаност ще се състои на 26 май 2026. Обща информация долу вдясно. Подробна информация за дневния ред и участниците ще бъде своевременно публикувана на това място.
UID:
END:VEVENT
END:VCALENDAR