BEGIN:VCALENDAR
PRODID:-//Veranstaltung//EN
VERSION:2.0
CALSCALE:GREGORIAN
BEGIN:VEVENT
DTSTART;VALUE=DATE-TIME:20260528T000000
DTEND;VALUE=DATE-TIME:20260528T235959
SUMMARY:Burgas Connectivity Forum 2026 / Burgas Konnekvitätsforum 2026
LOCATION:
DESCRIPTION:Das Burgas-Konnektivitätsforum wird am 28. Mai 2026 stattfinden. Allgemeine Information dazu unten rechts. Nähere Information zu Ablauf und Teilnehmern wird rechtzeitig an dieser Stelle veröffentlicht werden.
UID:
END:VEVENT
END:VCALENDAR