BEGIN:VCALENDAR
PRODID:-//Veranstaltung//EN
VERSION:2.0
CALSCALE:GREGORIAN
BEGIN:VEVENT
DTSTART;VALUE=DATE-TIME:20251125T183000
DTEND;VALUE=DATE-TIME:20251125T203000
SUMMARY:Book Launch: Namibia Land of Many Cultures
LOCATION:
DESCRIPTION:In celebration of Kuiseb Publishers’ 40-year anniversary, the Namibia Scientific Society (NNS) in partnership with the Konrad-Adenauer-Stiftung and Namibia Library and Archive Services (NSAL), are launching the Publication titled "Namibia Land of Many Cultures" at the Namibia Scientific Society.
With over 100 invited guests, this celebratory evening aims to merge culture, and community and reflect on four decades of publishing whilst the editors will share an overview of this the new book which highlight the richness and diversity of the Namibian nation.
Dress Code: Traditional Attire
Refreshments will be served
UID:
END:VEVENT
END:VCALENDAR