BEGIN:VCALENDAR
PRODID:-//Veranstaltung//EN
VERSION:2.0
CALSCALE:GREGORIAN
BEGIN:VEVENT
DTSTART;VALUE=DATE-TIME:20251107T000000
DTEND;VALUE=DATE-TIME:20251108T235959
SUMMARY:Do It With Integrity
LOCATION:
DESCRIPTION:Am 7./8. November findet in Transkarpatien das 6. Internationale Forum „Re:Open Zakarpattia 2025” statt, an dem Politiker, Meinungsbildner, Vertreter*Innen von Zivilgesellschaft, Behörden und Organen der kommunalen Selbstverwaltung, Geschäftsleute und internationale Partner teilnehmen werden. Das Forum ist eine unabhängige Diskussionsplattform für Entscheidungsträger. Ziel der Diskussionen ist es, die Region Transkarpatien als multikulturelles Frontiergebiet, Brücke zwischen der Ukraine, der EU und der NATO, als zuverlässiges Hinterland und Pilotregion für die Verbreitung von Reformen und bewährten Praktiken im ganzen Land neu zu definieren.
UID:
END:VEVENT
END:VCALENDAR