BEGIN:VCALENDAR
PRODID:-//Veranstaltung//EN
VERSION:2.0
CALSCALE:GREGORIAN
BEGIN:VEVENT
DTSTART;VALUE=DATE-TIME:20251107T000000
DTEND;VALUE=DATE-TIME:20251108T235959
SUMMARY:Зробити доброчесно
LOCATION:
DESCRIPTION:7-8 листопада 2025 р. на Закарпатті відбудеться 6-й міжнародний форум «Re:Open Zakarpattia -2025» за участі політиків, лідерів суспільної думки, представників і предстаниць громадянського суспільства, органів державної влади та місцевого самоврядування, бізнес-спільноти та міжнародних партнерів. Форум є незалежним дискусійним майданчиком для тих, хто виробляє та ухвалює рішення. Метою дискусій  є переосмислення регіону Закарпаття як мультикультурного фронтиру, мосту України до ЄС та НАТО, надійного тилу, пілотного регіону для поширення реформ і кращих практик по всій країні
UID:
END:VEVENT
END:VCALENDAR