BEGIN:VCALENDAR
PRODID:-//Veranstaltung//EN
VERSION:2.0
CALSCALE:GREGORIAN
BEGIN:VEVENT
DTSTART;VALUE=DATE-TIME:20251209T183000
DTEND;VALUE=DATE-TIME:20251209T200000
SUMMARY:An der strategischen Kreuzung - Welches Europa wollen wir sein?
LOCATION:Mönchengladbach
DESCRIPTION:Europa steht an einer entscheidenden Wegkreuzung. Gemeinsam mit dem Sicherheitsexperten Nico Lange gehen wir der Frage nach, wie Europa die Kraft aufbringt, Putin zum Frieden zu drängen.
UID:
END:VEVENT
END:VCALENDAR