BEGIN:VCALENDAR
PRODID:-//Veranstaltung//EN
VERSION:2.0
CALSCALE:GREGORIAN
BEGIN:VEVENT
DTSTART;VALUE=DATE-TIME:20251209T140000
DTEND;VALUE=DATE-TIME:20251209T183000
SUMMARY:The New DNA of Energy Security
LOCATION:
DESCRIPTION:9 грудня 2025 р. у Києві вібудеться міжнародна конференція з серії Energy Security Dialogue 2025, присвячена пошуку нової ДНК енергетичної безпеки України та регіону. Захід організовує ГО “ДІКСІ ГРУП” під патронатом Міністерства енергетики України, за підтримки Міжнародного фонду “Відродження” та Представництва Фонду Конрада Аденауера в Україні. Цей щорічний формат об’єднує українських, європейських та американських стейкхолдерів навколо актуальних питань енергетичної безпеки України та регіону.
UID:
END:VEVENT
END:VCALENDAR