BEGIN:VCALENDAR
PRODID:-//Veranstaltung//EN
VERSION:2.0
CALSCALE:GREGORIAN
BEGIN:VEVENT
DTSTART;VALUE=DATE-TIME:20251020T000000
DTEND;VALUE=DATE-TIME:20251022T235959
SUMMARY:KASYP Celebrates 15 Years!
LOCATION:Singapore
DESCRIPTION:KASYP celebrated its 15th anniversary with a regional alumni gathering in Singapore from 20–22 October 2025, highlighting 15 years of empowering nearly 300 young political leaders across Asia. The event also marked ADLA’s 5th anniversary, reaffirming its role as KASYP’s alumni network and charting the path forward for stronger regional cooperation.
UID:
END:VEVENT
END:VCALENDAR