BEGIN:VCALENDAR
PRODID:-//Veranstaltung//EN
VERSION:2.0
CALSCALE:GREGORIAN
BEGIN:VEVENT
DTSTART;VALUE=DATE-TIME:20251115T083000
DTEND;VALUE=DATE-TIME:20251115T190000
SUMMARY:KASSID Annual Meeting 2025
LOCATION:กรุงเทพมหานคร
DESCRIPTION:ปี พ.ศ. 2568 เป็นการก้าวเข้าสู่ปีที่ 5 ของการมอบทุนการศึกษา Konrad Adenauer Scholarship for Social and Innovative Development (KASSID) โดยตลอดช่วงเวลา 5 ปีที่ผ่านมา มูลนิธิฯ ได้มอบทุนให้นักศึกษา 3 รุ่น รวมทั้งหมด 26 คนจากทั่วประเทศ เพื่อสานต่อเป้าหมายของทุนการศึกษา มูลนิธิฯ จึงจะจัดกิจกรรมตลอดหนึ่งวันสำหรับทั้งนักเรียนทุน KASSID รุ่นปัจจุบันและศิษย์เก่า โดยมีเป้าหมายเพื่อส่งเสริมการเรียนรู้ต่อเนื่อง แลกเปลี่ยนมุมมอง และเสริมสร้างเครือข่ายนักเรียนทุน
UID:
END:VEVENT
END:VCALENDAR