BEGIN:VCALENDAR
PRODID:-//Veranstaltung//EN
VERSION:2.0
CALSCALE:GREGORIAN
BEGIN:VEVENT
DTSTART;VALUE=DATE-TIME:20251120T000000
DTEND;VALUE=DATE-TIME:20251121T235959
SUMMARY:Advancing the Public Sector and Empowering Local Communities with Generative AI
LOCATION:Khon Kaen Province
DESCRIPTION:Over the past decade, the world has entered an era of rapid technological transformation, particularly with the development of Artificial Intelligence (AI), which has had a broad impact on daily life, the economy, and public administration. One of the technologies that has drawn significant attention is Generative AI. This creates opportunities for government agencies to apply it in enhancing the quality of public services across various dimensions, including prompt responsiveness, accuracy, accessibility, and transparency. However, despite Generative AI’s high potential in enhancing the efficiency of public administration, the adoption of such technology in the public sector still faces several challenges. These include digital inequality, users’ understanding and ability to utilise the technology, data security and safety, as well as issues of ethics and social responsibility. Without proper knowledge, understanding, and skills, the use of AI could lead to errors, misinformation, or even undermine public trust in government agencies. Therefore, it is critically important that public sector personnel and local community leaders receive appropriate training and capacity building on this significant issue.
UID:
END:VEVENT
END:VCALENDAR