BEGIN:VCALENDAR
PRODID:-//Veranstaltung//EN
VERSION:2.0
CALSCALE:GREGORIAN
BEGIN:VEVENT
DTSTART;VALUE=DATE-TIME:20251120T000000
DTEND;VALUE=DATE-TIME:20251121T235959
SUMMARY:เพิ่มพูนขีดความสามารถของบุคลากรภาครัฐและภาคประชาชนท้องถิ่นในการให้บริการสาธารณะด้วยปัญญาประดิษฐ์
LOCATION:จ. ขอนแก่น
DESCRIPTION:ในช่วงทศวรรษที่ผ่านมา โลกได้ก้าวเข้าสู่ยุคแห่งการเปลี่ยนแปลงทางเทคโนโลยีอย่างรวดเร็ว โดยเฉพาะการพัฒนาของ ปัญญาประดิษฐ์ (Artificial Intelligence: AI) ที่สามารถสร้างผลกระทบต่อการดำเนินชีวิต เศรษฐกิจ และการบริหารจัดการของรัฐอย่างกว้างขวาง หนึ่งในเทคโนโลยีที่ได้รับความสนใจอย่างมากคือ Generative AI หรือเอไอเชิงสร้างสรรค์ ทำให้หน่วยงานภาครัฐมีโอกาสนำมาประยุกต์ใช้เพื่อยกระดับคุณภาพการให้บริการสาธารณะในมิติที่หลากหลาย ทั้งด้านความรวดเร็ว ความถูกต้อง การเข้าถึง และความโปร่งใส อย่างไรก็ตาม แม้ Generative AI จะมีศักยภาพสูงในการช่วยเพิ่มประสิทธิภาพงานราชการ แต่การนำเทคโนโลยีดังกล่าวมาใช้ในภาครัฐยังคงเผชิญกับความท้าทายหลายประการ ไม่ว่าจะเป็น ความเหลื่อมล้ำทางดิจิทัล ความเข้าใจในการใช้งานของบุคลากร ความมั่นคงและความปลอดภัยของข้อมูล ตลอดจนประเด็นด้านจริยธรรมและความรับผิดชอบต่อสังคม หากขาดความรู้ ความเข้าใจ และทักษะที่ถูกต้อง การใช้งาน AI อาจนำไปสู่ความผิดพลาด ข้อมูลที่บิดเบือน หรือแม้แต่กระทบต่อความเชื่อมั่นของประชาชนต่อหน่วยงานของรัฐ ดังนั้น จึงเป็นสิ่งสำคัญอย่างยิ่งที่บุคลากรภาครัฐและผู้นำท้องถิ่นจะต้องได้รับการอบรมและพัฒนาขีดความสามารถอย่างเหมาะสม
UID:
END:VEVENT
END:VCALENDAR