BEGIN:VCALENDAR
PRODID:-//Veranstaltung//EN
VERSION:2.0
CALSCALE:GREGORIAN
BEGIN:VEVENT
DTSTART;VALUE=DATE-TIME:20251112T000000
DTEND;VALUE=DATE-TIME:20251112T203000
SUMMARY:Security Policy Frameworks in the Asia Pacific
LOCATION:
DESCRIPTION:
UID:
END:VEVENT
END:VCALENDAR