BEGIN:VCALENDAR
PRODID:-//Veranstaltung//EN
VERSION:2.0
CALSCALE:GREGORIAN
BEGIN:VEVENT
DTSTART;VALUE=DATE-TIME:20251120T180000
DTEND;VALUE=DATE-TIME:20251120T191500
SUMMARY:Countering Hybrid Threats in the Nordic Baltic Region
LOCATION:
DESCRIPTION:In recent months, European countries, particularly in the Nordic-Baltic region, have faced a surge in hybrid attacks, including cyber-attacks on public institutions and drone incursions near critical infrastructure.
UID:
END:VEVENT
END:VCALENDAR