BEGIN:VCALENDAR
PRODID:-//Veranstaltung//EN
VERSION:2.0
CALSCALE:GREGORIAN
BEGIN:VEVENT
DTSTART;VALUE=DATE-TIME:20260617T190000
DTEND;VALUE=DATE-TIME:20260618T160000
SUMMARY:Städtebau und Demokratie. Für mehr Miteinander
LOCATION:Berlin
DESCRIPTION:Wir diskutieren über die Zusammenhänge von Städtebau und Demokratie, richten unseren Blick auf das Miteinander in unseren Kommunen und hinterfragen, wie Städtebau dazu beitragen kann, Begegnungen und sozialen Zusammenhalt zu fördern.
UID:
END:VEVENT
END:VCALENDAR