BEGIN:VCALENDAR
PRODID:-//Veranstaltung//EN
VERSION:2.0
CALSCALE:GREGORIAN
BEGIN:VEVENT
DTSTART;VALUE=DATE-TIME:20251204T180000
DTEND;VALUE=DATE-TIME:20251204T200000
SUMMARY:Die Kraft der Werte in Zeiten hybrider Bedrohungen
LOCATION:Zagreb
DESCRIPTION:DAS KAS-Auslandsbüro Kroatien-Slowenien veranstaltet gemeinsam mit der HDZ-Stiftung (ZHDZ) und der Kroatischen Katholischen Universität am 4. Dezember 2025 in Zagreb einen weiteren Wertekongress.  Während des Kongresses wird über die Bedeutung und Stärke von Werten in Zeiten hybrider Bedrohungen diskutiert.
UID:
END:VEVENT
END:VCALENDAR