BEGIN:VCALENDAR
PRODID:-//Veranstaltung//EN
VERSION:2.0
CALSCALE:GREGORIAN
BEGIN:VEVENT
DTSTART;VALUE=DATE-TIME:20251204T180000
DTEND;VALUE=DATE-TIME:20251204T200000
SUMMARY:The Power of Values in Times of Hybrid Threats
LOCATION:Zagreb
DESCRIPTION:Together with the Croatian Statehood Foundation (ZHDZ) and the Catholic University of Croatia, the KAS Croatia-Slovenia Office is organizing on December 4th, 2025, in Zagreb an annual congress on Values. During the congress, the importance and power of values in times of hybrid threats will be discussed.
UID:
END:VEVENT
END:VCALENDAR