BEGIN:VCALENDAR
PRODID:-//Veranstaltung//EN
VERSION:2.0
CALSCALE:GREGORIAN
BEGIN:VEVENT
DTSTART;VALUE=DATE-TIME:20251204T180000
DTEND;VALUE=DATE-TIME:20251204T200000
SUMMARY:Snaga vrijednosti u vrijeme hibridnih prijetnji
LOCATION:Zagreb
DESCRIPTION:Ured KAS-a za Hrvatsku i Sloveniju organizira u suradnji sa Zakladom hrvatskog državnog zavjeta (ZHDZ) i Hrvatskim katoličkim sveučilištem 4. prosinca 2025. godine u Zagrebu uobučajeni kongres o vrijednostima. Tijekom kongresa razgovarat će se o pitanjima snazi i važnosti vrijednosti u vremenu hibridnih prijetnji.
UID:
END:VEVENT
END:VCALENDAR