BEGIN:VCALENDAR
PRODID:-//Veranstaltung//EN
VERSION:2.0
CALSCALE:GREGORIAN
BEGIN:VEVENT
DTSTART;VALUE=DATE-TIME:20251220T000000
DTEND;VALUE=DATE-TIME:20251220T235959
SUMMARY:Why Should I Care About... Mis- & Dis- Information?
LOCATION:
DESCRIPTION:
UID:
END:VEVENT
END:VCALENDAR