BEGIN:VCALENDAR
PRODID:-//Veranstaltung//EN
VERSION:2.0
CALSCALE:GREGORIAN
BEGIN:VEVENT
DTSTART;VALUE=DATE-TIME:20251124T130000
DTEND;VALUE=DATE-TIME:20251124T170000
SUMMARY:AI and the Future of Digital Governance:  Advancing Public Service Transformation
LOCATION:Bangkok
DESCRIPTION:Thailand’s National AI Strategy and Action Plan (2022–2027) aims to improve quality of life and strengthen economic growth through responsible and inclusive AI adoption. Despite progress, challenges remain. Experience-sharing and dialogue, leading to concrete policy recommendations on policy formulation, budget allocation, and the design of AI-integrated pilot projects, are essential to advancing Thailand’s digital governance transformation.
UID:
END:VEVENT
END:VCALENDAR