BEGIN:VCALENDAR
PRODID:-//Veranstaltung//EN
VERSION:2.0
CALSCALE:GREGORIAN
BEGIN:VEVENT
DTSTART;VALUE=DATE-TIME:20251124T130000
DTEND;VALUE=DATE-TIME:20251124T170000
SUMMARY:AI กับ อนาคตรัฐบาลดิจิทัล สู่การยกระดับมาตรฐานการบริการภาครัฐ
LOCATION:Bangkok
DESCRIPTION:แผนยุทธศาสตร์ปัญญาประดิษฐ์แห่งชาติ พ.ศ. 2565–2570 มุ่งยกระดับคุณภาพชีวิตและขับเคลื่อนเศรษฐกิจผ่านการใช้งาน AI อย่างมีธรรมาภิบาล เท่าเทียม และปลอดภัย แม้ประเทศไทยจะเดินหน้าตามแผนมา 2 ปีแล้ว แต่ยังเผชิญความท้าทายหลายด้าน ดังนั้นการแลกเปลี่ยนประสบการณ์และร่วมกันจัดทำข้อเสนอเชิงนโยบายที่ชัดเจน ทั้งด้านการกำหนดนโยบาย งบประมาณ และโครงการนำร่อง จึงเป็นกลไกสำคัญในการเร่งสู่รัฐบาลดิจิทัลที่ขับเคลื่อนด้วย AI อย่างมีธรรมาภิบาล พร้อมสร้าง “ระบบนิเวศแห่งความไว้วางใจ” ที่เปิดให้ประชาชนมีส่วนร่วมในการออกแบบและตรวจสอบการบริการของภาครัฐ
UID:
END:VEVENT
END:VCALENDAR