BEGIN:VCALENDAR
PRODID:-//Veranstaltung//EN
VERSION:2.0
CALSCALE:GREGORIAN
BEGIN:VEVENT
DTSTART;VALUE=DATE-TIME:20260204T180000
DTEND;VALUE=DATE-TIME:20260204T211500
SUMMARY:Einführung in den Kommunalhaushalt
LOCATION:
DESCRIPTION:Dieses Online-Seminar vermittelt die Grundlagen kommunaler Haushalts- und Finanzpolitik. Die Instrumente des Neuen Kommunalen Finanzmanagements (Doppik) werden ebenso erläutert wie Handlungsansätze und Strategien zur Haushaltskonsolidierung.
UID:
END:VEVENT
END:VCALENDAR