BEGIN:VCALENDAR
PRODID:-//Veranstaltung//EN
VERSION:2.0
CALSCALE:GREGORIAN
BEGIN:VEVENT
DTSTART;VALUE=DATE-TIME:20260318T180000
DTEND;VALUE=DATE-TIME:20260318T211500
SUMMARY:Social Media in der Kommunalpolitik - Teil 1
LOCATION:
DESCRIPTION:Auch in der Kommunalpolitik kommt es mehr denn je auf digitale Präsenz an. Wie kann ich meine politischen Ziele präsentieren? Welche Medien bzw. Plattformen stehen zur Verfügung?
UID:
END:VEVENT
END:VCALENDAR