BEGIN:VCALENDAR
PRODID:-//Veranstaltung//EN
VERSION:2.0
CALSCALE:GREGORIAN
BEGIN:VEVENT
DTSTART;VALUE=DATE-TIME:20260422T160000
DTEND;VALUE=DATE-TIME:20260422T190000
SUMMARY:Sicherheitsgefühl im Ehrenamt stärken
LOCATION:Dresden
DESCRIPTION:Anhand typischer Konfliktsituationen und praktischer Rollenspiele lernen Teilnehmende, Situationen besser einzuschätzen und souverän zu handeln
UID:
END:VEVENT
END:VCALENDAR