BEGIN:VCALENDAR
PRODID:-//Veranstaltung//EN
VERSION:2.0
CALSCALE:GREGORIAN
BEGIN:VEVENT
DTSTART;VALUE=DATE-TIME:20260508T150000
DTEND;VALUE=DATE-TIME:20260509T150000
SUMMARY:Grundlagen der Kommunalpolitik
LOCATION:Bad Honnef
DESCRIPTION:Wie können sich Bürgerinnen und Bürger in der Kommunalpolitik beteiligen? Mit dem Basiskurs aus unserer Seminarreihe „Das Kommunalpolitische Seminar“ vermitteln wir eine praxisgerechte Einführung in die Grundlagen kommunalpolitischer Arbeit.
UID:
END:VEVENT
END:VCALENDAR