BEGIN:VCALENDAR
PRODID:-//Veranstaltung//EN
VERSION:2.0
CALSCALE:GREGORIAN
BEGIN:VEVENT
DTSTART;VALUE=DATE-TIME:20260619T160000
DTEND;VALUE=DATE-TIME:20260621T123000
SUMMARY:Medien- und Öffentlichkeitsarbeit in der Kommunalpolitik
LOCATION:Bad Honnef
DESCRIPTION:Professionelle Kommunikation ist nicht mehr nur auf die obersten Politikebenen beschränkt. Auch im kommunalen Bereich steigen die Anforderungen an die ehrenamtlich Aktiven. Der Kurs vermittelt hierzu wichtige Grundlagen.
UID:
END:VEVENT
END:VCALENDAR