BEGIN:VCALENDAR
PRODID:-//Veranstaltung//EN
VERSION:2.0
CALSCALE:GREGORIAN
BEGIN:VEVENT
DTSTART;VALUE=DATE-TIME:20260626T160000
DTEND;VALUE=DATE-TIME:20260628T123000
SUMMARY:Kommunalhaushalt und Bauleitplanung
LOCATION:Bad Honnef
DESCRIPTION:Mit diesem Kurs unserer Veranstaltungsreihe „Das Kommunalpolitische Seminar“ vermitteln wir im ersten Teil eine Einführung in die Grundlagen kommunaler Haushalts- und Finanzpolitik. Der zweite Teil des Seminars widmet sich den Kernfragen kommunaler Planungshoheit und ihrer planerischen Steuerungsinstrumente.
UID:
END:VEVENT
END:VCALENDAR