BEGIN:VCALENDAR
PRODID:-//Veranstaltung//EN
VERSION:2.0
CALSCALE:GREGORIAN
BEGIN:VEVENT
DTSTART;VALUE=DATE-TIME:20251125T100000
DTEND;VALUE=DATE-TIME:20251126T150000
SUMMARY:CNSAS – 25 years since the opening of the Securitate archives. Romanian Post-Communism
LOCATION:Bucharest
DESCRIPTION:
UID:
END:VEVENT
END:VCALENDAR