BEGIN:VCALENDAR
PRODID:-//Veranstaltung//EN
VERSION:2.0
CALSCALE:GREGORIAN
BEGIN:VEVENT
DTSTART;VALUE=DATE-TIME:20251127T130000
DTEND;VALUE=DATE-TIME:20251127T170000
SUMMARY:Geopolitics in the Cyber Frontier: Building Digital Resilience in A Fragmented World
LOCATION:Bangkok
DESCRIPTION:Technology, data, and innovation have emerged as powerful instruments of strategic competition among major powers. Thailand’s ambitions under the Digital Economy and Society Development Plan and the Thailand 4.0 agenda require deeper integration into global innovation networks. Yet this integration, on the one hand, exposes the country to new geopolitical vulnerabilities from dependence on imported chips and critical network infrastructure to heightened exposure to international cybersecurity threats. On the other hand, deeper integration strengthens the country’s obligation to protect citizens’ rights, particularly the right to privacy, as Thailand must increasingly comply with international data-governance standards.
UID:
END:VEVENT
END:VCALENDAR