BEGIN:VCALENDAR
PRODID:-//Veranstaltung//EN
VERSION:2.0
CALSCALE:GREGORIAN
BEGIN:VEVENT
DTSTART;VALUE=DATE-TIME:20251127T130000
DTEND;VALUE=DATE-TIME:20251127T170000
SUMMARY:ภูมิรัฐศาสตร์ทางไซเบอร์กับการสร้างความยืดหยุ่นทางดิจิทัลในยุคแห่งความเปราะบาง
LOCATION:Bangkok
DESCRIPTION:การแข่งขันเชิงกลยุทธ์ระหว่างมหาอำนาจได้ขยายเข้าสู่มิติของ “ภูมิรัฐศาสตร์ทางไซเบอร์” โดยมีเทคโนโลยี ข้อมูล และนวัตกรรมเป็นเครื่องมือสำคัญ ความเชื่อมโยงระหว่างเศรษฐกิจดิจิทัลกับภูมิรัฐศาสตร์โลก รวมถึงเป้าหมายของประเทศไทยในการขับเคลื่อนประเทศสู่ศูนย์กลางนวัตกรรมระดับภูมิภาค ภายใต้นโยบายการพัฒนาเศรษฐกิจและสังคมดิจิทัลแห่งชาติ และยุทธศาสตร์ “ไทยแลนด์ 4.0” ทำให้ประเทศไทยต้องเผชิญกับความท้าทายด้านความมั่นคงไซเบอร์ เช่น การพึ่งพาเทคโนโลยีและนวัตกรรมจากต่างประเทศ และการแข่งขันเชิงกลยุทธ์ของมหาอำนาจที่ส่งผลต่ออธิปไตยทางเทคโนโลยี ในขณะเดียวกัน เนื่องจากประเทศไทยต้องปฏิบัติตามมาตรฐานการกำกับดูแลข้อมูลระหว่างประเทศมากขึ้นการบูรณาการที่ลึกซึ้งยิ่งขึ้นจะช่วยเสริมสร้างพันธกรณีของประเทศในการคุ้มครองสิทธิของประชาชน โดยเฉพาะอย่างยิ่งสิทธิด้านความเป็นส่วนตัว
UID:
END:VEVENT
END:VCALENDAR