BEGIN:VCALENDAR
PRODID:-//Veranstaltung//EN
VERSION:2.0
CALSCALE:GREGORIAN
BEGIN:VEVENT
DTSTART;VALUE=DATE-TIME:20251209T180000
DTEND;VALUE=DATE-TIME:20251209T200000
SUMMARY:Building Europe’s Strategic Resilience
LOCATION:Berlin
DESCRIPTION:Ministerpräsident Andrej Plenković im Gespräch über die Zukunft Europas
UID:
END:VEVENT
END:VCALENDAR