BEGIN:VCALENDAR
PRODID:-//Veranstaltung//EN
VERSION:2.0
CALSCALE:GREGORIAN
BEGIN:VEVENT
DTSTART;VALUE=DATE-TIME:20251114T103000
DTEND;VALUE=DATE-TIME:20251114T114500
SUMMARY:Konrad Adenauer Foundation Panel at the "Romanian Military Thinking" Conference
LOCATION:Bucharest
DESCRIPTION:
UID:
END:VEVENT
END:VCALENDAR