BEGIN:VCALENDAR
PRODID:-//Veranstaltung//EN
VERSION:2.0
CALSCALE:GREGORIAN
BEGIN:VEVENT
DTSTART;VALUE=DATE-TIME:20260419T000000
DTEND;VALUE=DATE-TIME:20260423T235959
SUMMARY:Migration – eine europäische Herausforderung
LOCATION:Griante-Cadenabbia (CO)
DESCRIPTION:Nachdem die globale Migration in den letzten zwei Jahrzehnten erheblich zugenommen hat, ist die Migration nach Europa spätestens seit Herbst 2015 ein beherrschendes politisches Thema.
UID:
END:VEVENT
END:VCALENDAR