BEGIN:VCALENDAR
PRODID:-//Veranstaltung//EN
VERSION:2.0
CALSCALE:GREGORIAN
BEGIN:VEVENT
DTSTART;VALUE=DATE-TIME:20251201T000000
DTEND;VALUE=DATE-TIME:20251205T235959
SUMMARY:World Conference of Science Journalists 2025
LOCATION:
DESCRIPTION:For the first time on African soil, the World Conference of Science Journalists (WCSJ) will take place in Pretoria, South Africa, from 1-5 December 2025. KAS Media Africa is happy to support the participation of African journalists at this landmark event, dedicated to strengthening science journalism and its role in promoting understanding and social justice across borders.
UID:
END:VEVENT
END:VCALENDAR