BEGIN:VCALENDAR
PRODID:-//Veranstaltung//EN
VERSION:2.0
CALSCALE:GREGORIAN
BEGIN:VEVENT
DTSTART;VALUE=DATE-TIME:20251201T000000
DTEND;VALUE=DATE-TIME:20251201T235959
SUMMARY:Studientag im Rahmen der Sicherhteisakademie des Think Tanks Adapt Institute
LOCATION:
DESCRIPTION:Weitere Informationen finden Sie unter: https://www.adaptinstitute.org/
UID:
END:VEVENT
END:VCALENDAR