BEGIN:VCALENDAR
PRODID:-//Veranstaltung//EN
VERSION:2.0
CALSCALE:GREGORIAN
BEGIN:VEVENT
DTSTART;VALUE=DATE-TIME:20251201T000000
DTEND;VALUE=DATE-TIME:20251201T235959
SUMMARY:Študijný deň v rámci Bezpečnostnej akadémie think-tanku Adapt Institute
LOCATION:
DESCRIPTION:Ďalšie informácie nájdete tu: https://www.adaptinstitute.org/
UID:
END:VEVENT
END:VCALENDAR