BEGIN:VCALENDAR
PRODID:-//Veranstaltung//EN
VERSION:2.0
CALSCALE:GREGORIAN
BEGIN:VEVENT
DTSTART;VALUE=DATE-TIME:20260121T190000
DTEND;VALUE=DATE-TIME:20260121T203000
SUMMARY:Angesichts der Katastrophe
LOCATION:
DESCRIPTION:
UID:
END:VEVENT
END:VCALENDAR