BEGIN:VCALENDAR
PRODID:-//Veranstaltung//EN
VERSION:2.0
CALSCALE:GREGORIAN
BEGIN:VEVENT
DTSTART;VALUE=DATE-TIME:20250903T000000
DTEND;VALUE=DATE-TIME:20250905T235959
SUMMARY:Turismo sostenibile
LOCATION:
DESCRIPTION:Dal 3 al 5 settembre si è svolta a Bressanone (Alto Adige) la terza edizione del congresso italo-tedesco: “Turismo sostenibile: la voce delle comunità locali”, promosso e organizzato in collaborazione con la Silvius Magnago Akademie di Bolzano. L’evento, che ha visto la partecipazione di una ventina di rappresentanti comunali italo-tedeschi, ha trattato vari temi: dalle infrastrutture ecologiche alla valorizzazione delle risorse locali fino alla creazione di reti di cooperazione tra amministrazioni e imprese della regione. In occasione di questo evento è stato possibile visitare il tunnel Eurotunnel del Brenner Base Tunnel, che presto collegherà l’Italia all’Austria.
UID:
END:VEVENT
END:VCALENDAR