BEGIN:VCALENDAR
PRODID:-//Veranstaltung//EN
VERSION:2.0
CALSCALE:GREGORIAN
BEGIN:VEVENT
DTSTART;VALUE=DATE-TIME:20251002T000000
DTEND;VALUE=DATE-TIME:20251002T235959
SUMMARY:Lavoratori e imprese: la nuova frontiera della partecipazione
LOCATION:
DESCRIPTION:Un sentito ringraziamento alla Fondazione De Gasperi per averci invitato a dare il nostro contributo alla conferenza “Lavoratori e imprese: la nuova frontiera della partecipazione” presso la Camera dei deputati.
UID:
END:VEVENT
END:VCALENDAR