BEGIN:VCALENDAR
PRODID:-//Veranstaltung//EN
VERSION:2.0
CALSCALE:GREGORIAN
BEGIN:VEVENT
DTSTART;VALUE=DATE-TIME:20251016T000000
DTEND;VALUE=DATE-TIME:20251018T235959
SUMMARY:Global Governance of Climate Change and Sustainability
LOCATION:
DESCRIPTION:Vom 16. bis 18. Oktober beherbergte die Insel San Servolo die vierte Ausgabe der internationalen Konferenz "Global Governance of Climate Change and Sustainability", die vom Think Tank Vision unter der Leitung von Prof. Francesco Grillo, Bocconi, in Zusammenarbeit mit der Konrad-Adenauer-Stiftung, der Giorgio-Cini-Stiftung, der Venice Sustainability Foundation, der Universität Bocconi, dem Politecnico Milano, der LUISS, dem Universitären Institut für Architektur in Venedig (IUAV), der Venice International University (VIU) und der Universität Ca' Foscari in Venedig organisiert wurde.
Internationale Experten, Unternehmer und Studierende führender internationaler Universitäten diskutierten über Strategien zur Bekämpfung des Klimawandels und zur Reduzierung des Treibhauseffekts zum Schutz unseres Planeten.
UID:
END:VEVENT
END:VCALENDAR