BEGIN:VCALENDAR
PRODID:-//Veranstaltung//EN
VERSION:2.0
CALSCALE:GREGORIAN
BEGIN:VEVENT
DTSTART;VALUE=DATE-TIME:20251107T000000
DTEND;VALUE=DATE-TIME:20251107T235959
SUMMARY:Security and Defence Day
LOCATION:
DESCRIPTION:Venerdì 7 novembre, presso il Ministero della Cultura, si è svolto il “Security and Defence Day”, organizzato dalla Fondazione De Gasperi in occasione del terzo anniversario della guerra in Ucraina. Al centro del dibattito, la sicurezza europea. Tra gli interventi più attesi, quello del Ministro degli Esteri Antonio Tajani, che ha ribadito l’impegno dell’Italia per una difesa europea più integrata. Tra gli ospiti della conferenza anche Matthias Barner, esperto di politica di sicurezza europea della Konrad-Adenauer-Stiftung di Berlino, che ha sottolineato la necessità di un’Europa più forte e coesa nel settore militare. L’evento ha riunito rappresentanti della politica, della ricerca e della società civile per discutere del futuro della sicurezza del continente.
UID:
END:VEVENT
END:VCALENDAR