BEGIN:VCALENDAR
PRODID:-//Veranstaltung//EN
VERSION:2.0
CALSCALE:GREGORIAN
BEGIN:VEVENT
DTSTART;VALUE=DATE-TIME:20251107T000000
DTEND;VALUE=DATE-TIME:20251107T235959
SUMMARY:Germany’s role in Europe’s defence
LOCATION:
DESCRIPTION:Ein besonderer Dank gilt unserem Keynote Speaker Dr. Matthias Barner, der den Vortrag „The German Government's Security and Defence Policy Decisions“ präsentiert hat. Roundtable on European security and defence at the KAS office.
UID:
END:VEVENT
END:VCALENDAR