BEGIN:VCALENDAR
PRODID:-//Veranstaltung//EN
VERSION:2.0
CALSCALE:GREGORIAN
BEGIN:VEVENT
DTSTART;VALUE=DATE-TIME:20251120T000000
DTEND;VALUE=DATE-TIME:20251120T235959
SUMMARY:Rethinking Action Plan, mit ISPI und META
LOCATION:
DESCRIPTION:An dem Treffen nahmen der deutsche Botschafter in Italien, Dr. Thomas Bagger, der italienische Minister für Unternehmen und Made in Italy, Adolfo Urso, der Wirtschaftsberater der US-Botschaft, Stephen Anderson, sowie Vertreter aus Politik und Wirtschaft teil. Sie tauschten sich über wirtschaftliche Chancen und gemeinsame Strategien zwischen den beiden Ländern aus.
UID:
END:VEVENT
END:VCALENDAR