BEGIN:VCALENDAR
PRODID:-//Veranstaltung//EN
VERSION:2.0
CALSCALE:GREGORIAN
BEGIN:VEVENT
DTSTART;VALUE=DATE-TIME:20251120T000000
DTEND;VALUE=DATE-TIME:20251120T235959
SUMMARY:Rethinking Action Plan, con ISPI e META
LOCATION:
DESCRIPTION:All'incontro hanno partecipato l'Ambasciatore tedesco in Italia, Dr. Thomas Bagger, il Ministro italiano per le Imprese e il Made in Italy, Adolfo Urso, il Consigliere economico dell'Ambasciata degli Stati Uniti, Stephen Anderson, e rappresentanti della politica e dell'economia. Hanno discusso di opportunità economiche e strategie comuni tra i due paesi.
UID:
END:VEVENT
END:VCALENDAR