BEGIN:VCALENDAR
PRODID:-//Veranstaltung//EN
VERSION:2.0
CALSCALE:GREGORIAN
BEGIN:VEVENT
DTSTART;VALUE=DATE-TIME:20251201T000000
DTEND;VALUE=DATE-TIME:20251201T235959
SUMMARY:Präsentation des Bandes „La metamorfosi dell’Africa occidentale“
LOCATION:
DESCRIPTION:Vorgestellt wurde der neueste Band unter der Herausgeberschaft des Direktors der Scuola Sinderesi, Mons. Samuele Sangalli: „La metamorfosi dell’Africa occidentale“. An der Veranstaltung nahmen der Sekretär des Dikasteriums für die Evangelisierung, Mons. Fortunatus Nwachukwu, sowie zahlreiche Fachleute und Wissenschaftler des Bereichs teil.
Die Veranstaltung bot eine Gelegenheit, die politischen, sozialen und religiösen Dynamiken zu vertiefen, die das Gesicht Westafrikas verändern, und brachte akademische sowie institutionelle Perspektiven miteinander ins Gespräch.
UID:
END:VEVENT
END:VCALENDAR