BEGIN:VCALENDAR
PRODID:-//Veranstaltung//EN
VERSION:2.0
CALSCALE:GREGORIAN
BEGIN:VEVENT
DTSTART;VALUE=DATE-TIME:20251201T000000
DTEND;VALUE=DATE-TIME:20251201T235959
SUMMARY:Presentazione del volume “La metamorfosi dell’Africa occidentale”
LOCATION:
DESCRIPTION:È stato presentato l'ultimo volume curato dal Direttore della Scuola Sinderesi, Mons. Samuele Sangalli: “La metamorfosi dell’Africa occidentale”. All'evento hanno partecipato il Segretario del Dicastero per l’Evangelizzazione, Mons. Fortunatus Nwachukwu, nonché numerosi esperti e studiosi del settore. L’evento ha offerto l’opportunità di approfondire le dinamiche politiche, sociali e religiose che stanno cambiando il volto dell’Africa occidentale, mettendo a confronto prospettive accademiche e istituzionali.
UID:
END:VEVENT
END:VCALENDAR